BEGIN:VCALENDAR
VERSION:2.0
PRODID:Events Booking
BEGIN:VEVENT
UID:69e79fe554812
SUMMARY:GNI/MeGA: IoT gekonnt umsetzen 
DESCRIPTION:Programm
 
 Präsentation Merkblätter IoT von GNI/MeGA\,
 P
 räsentation MeGA Umfrage\,
 IoT Herausforderungen für den Kanton Züric
 h\,
 Asset Traking am Universitätsspital Zürich
 MQool - Selbstkontrol
 le mittels digitaler Temperaturmessung
 Apéro
 
LOCATION:Zürich\, Schweiz
DTSTART:20230605T140000Z
DTEND:20230505T163000Z
DTSTAMP:20230420T105853Z
ORGANIZER;CN=IFMA Schweiz :MAILTO:admin@ifma.ch
GEO:47.376887;8.541694
X-APPLE-STRUCTURED-LOCATION;VALUE=URI;X-ADDRESS=Zürich\, Schweiz;X-APPLE-R
 ADIUS=72;X-TITLE=Zurich:47.376887;8.541694
END:VEVENT
END:VCALENDAR