BEGIN:VCALENDAR
VERSION:2.0
PRODID:Events Booking
BEGIN:VEVENT
UID:69e6de4d63c3c
SUMMARY:GNI Kongress der Gebäudeautomatisation
DESCRIPTION:Der erste GNI-Kongress über GebäudeautomationFragen und Antwo
 rten zu:Umwelt\, Wirtschaft und Energie\, Architektur und Digitalisierung\
 , IoT und Gebäudeautomation und Future of work
LOCATION:Stefano- Franscini-Platz\, 5\, 8049 Zürich\, Schweiz
DTSTART:20190619T070000Z
DTEND:20190619T150000Z
DTSTAMP:20260421T041749Z
ORGANIZER;CN=IFMA Schweiz :MAILTO:admin@ifma.ch
GEO:47.408595;8.506159
X-APPLE-STRUCTURED-LOCATION;VALUE=URI;X-ADDRESS=Stefano- Franscini-Platz\, 
 5\, 8049 Zürich\, Schweiz;X-APPLE-RADIUS=72;X-TITLE=Zürich\, ETH Höngge
 rberg:47.408595;8.506159
END:VEVENT
END:VCALENDAR