BEGIN:VCALENDAR
VERSION:2.0
PRODID:Events Booking
BEGIN:VEVENT
UID:69e74ce6494fc
SUMMARY:Gebäudetechnik Kongress Kompetenzen & Dekarbonisierung
DESCRIPTION:Die Gebäudetechnikbranche kann einen grossen Beitrag zur Errei
 chung der Ziele der Energiestrategie 2050 leisten. Daher wird das Leitthem
 a Kompetenzen für Dekarbonisierung in den Referaten und Präsentationen i
 m Fokus stehen.
 Die Veranstaltung wird hybrid konzipiert und kann in Dü
 bendorf besucht\, bzw. online verfolgt werden.
 IFMA Mitglieder erhalten 
 einen Rabatt für Partnerverbände und zahlen CHF 190.-
 
LOCATION:Zürich\, Schweiz
DTSTART:20211028T070000Z
DTEND:20211028T150000Z
DTSTAMP:20260421T120942Z
ORGANIZER;CN=IFMA Schweiz :MAILTO:admin@ifma.ch
GEO:47.376887;8.541694
X-APPLE-STRUCTURED-LOCATION;VALUE=URI;X-ADDRESS=Zürich\, Schweiz;X-APPLE-R
 ADIUS=72;X-TITLE=online:47.376887;8.541694
END:VEVENT
END:VCALENDAR