BEGIN:VCALENDAR
VERSION:2.0
PRODID:Events Booking
BEGIN:VEVENT
UID:69e6d835b2ff8
SUMMARY:FOGO – Wohn-\, Arbeits-\, und Freizeitort
DESCRIPTION:Die temporäre Siedlung ist ein Ort zum Wohnen\, Arbeiten\, Ver
 weilen und Spielen\, für Begegnungen und partizipative Projekte. Sie best
 eht hauptsächlich aus Holz- und Metallmodulen und dient als günstiger Wo
 hnraum für Flüchtlinge und junge Erwachsene in Ausbildung sowie als Raum
  für Kleingewerbe.
 Führung durch:Sebastian Hoffmann\, Architekt\, Hoff
 mannfontana Architekturen GmbHNikolaus Hamburger\, MSc ETH Arch\, Geschäf
 tsleitung HDPF ZürichCorinne Widmer\, lic. rer. soc. Gesellschaftswissens
 chaften\, AOZ
DTSTART:20200609T151500Z
DTEND:20200609T170000Z
DTSTAMP:20260421T035149Z
ORGANIZER;CN=IFMA Schweiz :MAILTO:admin@ifma.ch
END:VEVENT
END:VCALENDAR