BEGIN:VCALENDAR
VERSION:2.0
PRODID:Events Booking
BEGIN:VEVENT
UID:69e74d337f100
SUMMARY:fmpro Webcast 
DESCRIPTION:Die Hälg Facility Management AG ist in den letzten zehn Jahren
  stark gewachsen. Um dieses Wachstum zu bewältigen und weiter voranzutrei
 ben\, mussten organisatorische Herausforderungen bewältigt und die Effizi
 enz erhöht werden.Neu wird mit dem aktuell eingeführten SAP Cloud ERP Sy
 stem inkl. einer kundenindividuellen App der hohe Qualitätsanspruch des U
 nternehmens sowie die Effizienz in den Geschäftsabläufen sichergestellt.
LOCATION:Zürich\, Schweiz
DTSTART:20211102T150000Z
DTEND:20211102T160000Z
DTSTAMP:20260421T121059Z
ORGANIZER;CN=IFMA Schweiz :MAILTO:admin@ifma.ch
GEO:47.376887;8.541694
X-APPLE-STRUCTURED-LOCATION;VALUE=URI;X-ADDRESS=Zürich\, Schweiz;X-APPLE-R
 ADIUS=72;X-TITLE=online:47.376887;8.541694
END:VEVENT
END:VCALENDAR