BEGIN:VCALENDAR
VERSION:2.0
PRODID:Events Booking
BEGIN:VEVENT
UID:69ec966ccc3c0
SUMMARY:fmpro Netzwerktreffen Technisches Gebäudemanagement – Bad Rheinf
 elden 
DESCRIPTION:Arbeiten wo andere entspannen: Das Bad Rheinfelden ist bekannt 
 für seine grosse Wellness-Welt.
 Es überzeugt nicht nur mit seiner Grö
 sse\, sondern auch mit seiner Technik. Eine spannende Führung hinter die 
 Kulissen des Wellness-Bereichs. Anschliessend gemeinsames Mittagessen eine
 m kollegialen Austausch am Nachmittag und zum Abschluss ein&nbsp\; entspan
 nendes Bad.
LOCATION:Roberstenstrasse 31\, 4310 Rheinfelden\, Schweiz
DTSTART:20210923T070000Z
DTEND:20210923T143000Z
DTSTAMP:20260425T122444Z
ORGANIZER;CN=IFMA Schweiz :MAILTO:admin@ifma.ch
GEO:47.558138;7.80076
X-APPLE-STRUCTURED-LOCATION;VALUE=URI;X-ADDRESS=Roberstenstrasse 31\, 4310 
 Rheinfelden\, Schweiz;X-APPLE-RADIUS=72;X-TITLE=Rheinfelden\, Bad Rheinfel
 den:47.558138;7.80076
END:VEVENT
END:VCALENDAR