BEGIN:VCALENDAR
VERSION:2.0
PRODID:Events Booking
BEGIN:VEVENT
UID:69ec96b9b2594
SUMMARY:fmpro Netzwerktreffen Ostschweiz: Spital Frauenfeld
DESCRIPTION:Besichtigung Spital Frauenfeld
LOCATION:Pfaffenholzstrasse 4\, 8500 Frauenfeld\, Schweiz
DTSTART:20210916T140000Z
DTEND:20210916T170000Z
DTSTAMP:20260425T122601Z
ORGANIZER;CN=IFMA Schweiz :MAILTO:admin@ifma.ch
GEO:47.549279;8.910285
X-APPLE-STRUCTURED-LOCATION;VALUE=URI;X-ADDRESS=Pfaffenholzstrasse 4\, 8500
  Frauenfeld\, Schweiz;X-APPLE-RADIUS=72;X-TITLE=Kantonsspital Frauenfeld:4
 7.549279;8.910285
END:VEVENT
END:VCALENDAR