BEGIN:VCALENDAR
VERSION:2.0
PRODID:Events Booking
BEGIN:VEVENT
UID:69e74f6d6d301
SUMMARY:fmpro Mitgliederplattform (virtuell) GV fmpro
DESCRIPTION:Die Generalversammlung von fmpro muss auch dieses Jahr in elekt
 ronischer Form durchgeführt werden. (Anfangs Mai 2021)
 Der Vorstand von
  fmpro möchte den Mitgliedern deshalb mit diesem virtuellen Anlass die M
 öglichkeit für einen persönlichen Austausch bieten. Er wird zudem über
  die die Aktivitäten und&nbsp\; Highlights des vergangenen Jahres bericht
 en und einen Ausblick auf das aktuelle Jahr geben.
LOCATION:Zürich\, Schweiz
DTSTART:20210421T140000Z
DTEND:20210421T150000Z
DTSTAMP:20260421T122029Z
ORGANIZER;CN=IFMA Schweiz :MAILTO:admin@ifma.ch
GEO:47.376887;8.541694
X-APPLE-STRUCTURED-LOCATION;VALUE=URI;X-ADDRESS=Zürich\, Schweiz;X-APPLE-R
 ADIUS=72;X-TITLE=online:47.376887;8.541694
END:VEVENT
END:VCALENDAR