BEGIN:VCALENDAR
VERSION:2.0
PRODID:Events Booking
BEGIN:VEVENT
UID:69e88ce839947
SUMMARY:FMPRO: Erste Schritte in die Lean Transformation
DESCRIPTION:Im&nbsp\; Rahmendieses&nbsp\; spannenden&nbsp\; Seminaressollen
 &nbsp\; den&nbsp\; Teilnehmenden&nbsp\; die&nbsp\; Kerngedanken&nbsp\; von
 &nbsp\; Lean&nbsp\; Ma-nagement&nbsp\; in&nbsp\; der&nbsp\; Administration
 &nbsp\; aktiv&nbsp\; und&nbsp\; praxisorientiert&nbsp\; nähergebracht&nbs
 p\; werden.
LOCATION:Fürstenlandstrasse 32\, 9500 Wil\, Schweiz
DTSTART:20180828T061500Z
DTEND:20180828T150000Z
DTSTAMP:20260422T105504Z
ORGANIZER;CN=IFMA Schweiz :MAILTO:admin@ifma.ch
GEO:47.465354;9.057561
X-APPLE-STRUCTURED-LOCATION;VALUE=URI;X-ADDRESS=Fürstenlandstrasse 32\, 95
 00 Wil\, Schweiz;X-APPLE-RADIUS=72;X-TITLE=Wil\, Spital:47.465354;9.057561
END:VEVENT
END:VCALENDAR