BEGIN:VCALENDAR
VERSION:2.0
PRODID:Events Booking
BEGIN:VEVENT
UID:69e79fb48a3da
SUMMARY:FM Day 2023
DESCRIPTION:FM for Future - Ein Schlüssel für die ZukunftZielpublikum: Ei
 gentümer und Investoren / Projektentwickler\, Architekten und Planer / Nu
 tzer / Betreiber\, ImmobiliendienstleisterReferierende: Michel Gammenthale
 r / Christian Hofmann
LOCATION:Bockenweg 4\, 8810 Horgen\, Schweiz
DTSTART:20230601T100000Z
DTEND:20230601T150000Z
DTSTAMP:20260421T180300Z
ORGANIZER;CN=IFMA Schweiz :MAILTO:admin@ifma.ch
GEO:47.24246;8.610916
X-APPLE-STRUCTURED-LOCATION;VALUE=URI;X-ADDRESS=Bockenweg 4\, 8810 Horgen\,
  Schweiz;X-APPLE-RADIUS=72;X-TITLE=Horgen\, Bocken:47.24246;8.610916
END:VEVENT
END:VCALENDAR