BEGIN:VCALENDAR
VERSION:2.0
PRODID:Events Booking
BEGIN:VEVENT
UID:69ea0878836b6
SUMMARY:FEZ Special: Versorgungssicherheit und drohende Energiemangellage
DESCRIPTION:Es erwarten uns drei Referate
 
 Energiemangellage – ist di
 e Schweiz bereit?
 Photovoltaik – Beitrag gegen eine drohende Strommang
 ellage
 Massnahmen und Monitoring zur Strommangellage in der Stadt Züric
 h
 
LOCATION:Weinbergstrasse 36\, 8006 Zürich\, Schweiz
DTSTART:20231129T161500Z
DTEND:20231129T180000Z
DTSTAMP:20231011T093715Z
ORGANIZER;CN=IFMA Schweiz :MAILTO:admin@ifma.ch
GEO:47.379872;8.544478
X-APPLE-STRUCTURED-LOCATION;VALUE=URI;X-ADDRESS=Weinbergstrasse 36\, 8006 Z
 ürich\, Schweiz;X-APPLE-RADIUS=72;X-TITLE=Zürich\, Pfarreizentrum Liebfr
 auen:47.379872;8.544478
END:VEVENT
END:VCALENDAR