BEGIN:VCALENDAR
VERSION:2.0
PRODID:Events Booking
BEGIN:VEVENT
UID:69e60e4668a39
SUMMARY:FEZ Special: Aussenräume zum Leben erwecken
DESCRIPTION:Themenschwerpunkte:
 
 Gebäude im Übergang zum Aussenraum\,
  Prof. Mathias Heinz
 Aussenräume sind Lebensräume\, Arniko Dross
 Qua
 rtierentwicklung - gestern und heute\, Dr. Ulrike Sturm
 
LOCATION:Weinbergstrasse 36\, 8006 Zürich\, Schweiz
DTSTART:20161101T161500Z
DTEND:20161101T180000Z
DTSTAMP:20260420T133014Z
ORGANIZER;CN=IFMA Schweiz :MAILTO:admin@ifma.ch
GEO:47.379872;8.544478
X-APPLE-STRUCTURED-LOCATION;VALUE=URI;X-ADDRESS=Weinbergstrasse 36\, 8006 Z
 ürich\, Schweiz;X-APPLE-RADIUS=72;X-TITLE=Zürich\, Pfarreizentrum Liebfr
 auen:47.379872;8.544478
END:VEVENT
END:VCALENDAR