BEGIN:VCALENDAR
VERSION:2.0
PRODID:Events Booking
BEGIN:VEVENT
UID:69e9f673acd3c
SUMMARY:FAWO Netzwerktreffen Ostschweiz
DESCRIPTION:Feierabend / Austausch / Wissen Netzwerk OstschweizDas etablier
 te Angebot der Netzwerkgruppe Ostschweiz ist ein Treffen im lockeren Rahme
 n. Es dient Interessierten als Plattform für Wissen\, Netzwerk und Gesell
 igkeit.Themen werden von den Teilnehmenden spontan angesprochen oder könn
 en im Vorfeld des Anlasses bei der Regionalgruppe eingegeben werden.
LOCATION:Vadianstrasse 14\, 9000 St. Gallen\, Schweiz
DTSTART:20220706T153000Z
DTEND:20220706T170000Z
DTSTAMP:20260423T123739Z
ORGANIZER;CN=IFMA Schweiz :MAILTO:admin@ifma.ch
GEO:47.422709;9.372206
X-APPLE-STRUCTURED-LOCATION;VALUE=URI;X-ADDRESS=Vadianstrasse 14\, 9000 St.
  Gallen\, Schweiz;X-APPLE-RADIUS=72;X-TITLE=St. Gallen\, Café Restaurant 
 Gentile:47.422709;9.372206
END:VEVENT
END:VCALENDAR