BEGIN:VCALENDAR
VERSION:2.0
PRODID:Events Booking
BEGIN:VEVENT
UID:69e9f26bf2ef7
SUMMARY:Energieautark mit Wasserstoff 
DESCRIPTION:Sicherlich verstärkt seitdem Energiemangellagen im Winter droh
 en\, gibt es Bauherrschaften und Arealentwickler*innen\, welche energieaut
 ark sein wollen. Anstatt mit Batterien kann dies auch mittels Wasserstoffs
 peicher erreicht werden. Erfahrungen aus konkreten Projekten mit Wassersto
 ffspeichern sowie welche Entwicklungen derzeit technisch und politisch im 
 Gange sind.
LOCATION:Zürich\, Schweiz
DTSTART:20240122T110000Z
DTEND:20240122T113000Z
DTSTAMP:20231207T072715Z
ORGANIZER;CN=IFMA Schweiz :MAILTO:admin@ifma.ch
GEO:47.376887;8.541694
X-APPLE-STRUCTURED-LOCATION;VALUE=URI;X-ADDRESS=Zürich\, Schweiz;X-APPLE-R
 ADIUS=72;X-TITLE=online:47.376887;8.541694
END:VEVENT
END:VCALENDAR