BEGIN:VCALENDAR
VERSION:2.0
PRODID:Events Booking
BEGIN:VEVENT
UID:69e7b26c0c408
SUMMARY:Energetische Erneuerung MFH aus 60er Jahren
DESCRIPTION:Im Zuge der Erneuerung wurde nicht nur die Gebäudehülle umfas
 send neu gedämmt\, sondern auch die alten Ölheizungen durch Wärmepumpen
  mit Erdsonden ersetzt. Zusätzlich kamen PV-Anlagen auf die Dächer und d
 ie neuen\, nach Süden ausgerichteten\, Balkone wurden mit bifazialen PV-P
 anels ausgestattet. Der Eigenverbrauchszusammenschluss (ZEV) garantiert de
 n Mietparteien günstigen Solarstrom und eine geringere Abhängigkeit von 
 Strompreisschwankungen.
LOCATION:Neuhofweg 6\, 8634 Hombrechtikon\, Schweiz
DTSTART:20210921T151500Z
DTEND:20210921T170000Z
DTSTAMP:20260421T192252Z
ORGANIZER;CN=IFMA Schweiz :MAILTO:admin@ifma.ch
GEO:47.25293;8.776918
X-APPLE-STRUCTURED-LOCATION;VALUE=URI;X-ADDRESS=Neuhofweg 6\, 8634 Hombrech
 tikon\, Schweiz;X-APPLE-RADIUS=72;X-TITLE=Hombrechtikon\, Neuhofweg:47.252
 93;8.776918
END:VEVENT
END:VCALENDAR