BEGIN:VCALENDAR
VERSION:2.0
PRODID:Events Booking
BEGIN:VEVENT
UID:69e6909dd0d00
SUMMARY:Gebäudetechnik Kongress: Digital & Smart
DESCRIPTION:IFMA Mitglieder haben Rabatt und zahlen CHF 390.- statt CHF 490
 .- 
LOCATION:Europaplatz 1\, 6005 Luzern\, Schweiz
DTSTART:20181004T060000Z
DTEND:20181004T160000Z
DTSTAMP:20260420T224621Z
ORGANIZER;CN=IFMA Schweiz :MAILTO:admin@ifma.ch
GEO:47.050429;8.312062
X-APPLE-STRUCTURED-LOCATION;VALUE=URI;X-ADDRESS=Europaplatz 1\, 6005 Luzern
 \, Schweiz;X-APPLE-RADIUS=72;X-TITLE=Luzern\, KKL Luzern:47.050429;8.31206
 2
END:VEVENT
END:VCALENDAR