BEGIN:VCALENDAR
VERSION:2.0
PRODID:Events Booking
BEGIN:VEVENT
UID:69e9f718ad5b7
SUMMARY:Die Zielvereinbarung für die Immobilienbranche
DESCRIPTION:FEZ UpToDateDer Gebäudesektor verursacht 24 % der Schweizer CO
 2-Emissionen. Das Potenzial zur Reduktion ist riesig. Für Unternehmen gib
 t es schon lange die Möglichkeit sich dank Zielvereinbarung die CO2-Abgab
 e rückerstatten zu lassen. Im Gebäudebereich bestehen aufgrund des Vermi
 eter*innen-Mieter*innen-Dilemmas gewisse Hemmnisse. Die Energie Agentur de
 r Wirtschaft hat nun eine Zielvereinbarung für Gebäudebesitzer*innen ent
 wickelt.
 Referent: David Wettstein\, Energie-Agentur der Wirtschaft (EnA
 W)\, Weisskopf Partner GmbHModeration: Reto Dettli\, Vorstand Forum Energi
 e Zürich
LOCATION:Zürich\, Schweiz
DTSTART:20220623T150000Z
DTEND:20220623T153000Z
DTSTAMP:20260423T124024Z
ORGANIZER;CN=IFMA Schweiz :MAILTO:admin@ifma.ch
GEO:47.376887;8.541694
X-APPLE-STRUCTURED-LOCATION;VALUE=URI;X-ADDRESS=Zürich\, Schweiz;X-APPLE-R
 ADIUS=72;X-TITLE=online:47.376887;8.541694
END:VEVENT
END:VCALENDAR