BEGIN:VCALENDAR
VERSION:2.0
PRODID:Events Booking
BEGIN:VEVENT
UID:69e5f82780a0e
SUMMARY:Dialog 2030 - Schweizer Nachhaltigkeitsziele: Chancen für Unterneh
 men
DESCRIPTION:Seit ihrer Lancierung 2016 erhalten die Sustainable Development
  Goals einen immer höheren Stellenwert in Wirtschaft und Gesellschaft. Ni
 cht zuletzt deshalb ist Nachhaltigkeit zu einem entscheidenden Wettbewerbs
 faktor geworden.
LOCATION:Tellistrasse 58\, 5000 Aarau\, Schweiz
DTSTART:20211123T140000Z
DTEND:20211123T163000Z
DTSTAMP:20260420T115551Z
ORGANIZER;CN=IFMA Schweiz :MAILTO:admin@ifma.ch
GEO:47.397026;8.056412
X-APPLE-STRUCTURED-LOCATION;VALUE=URI;X-ADDRESS=Tellistrasse 58\, 5000 Aara
 u\, Schweiz;X-APPLE-RADIUS=72;X-TITLE=Aarau\, Berufsschule Aarau:47.397026
 ;8.056412
END:VEVENT
END:VCALENDAR