BEGIN:VCALENDAR
VERSION:2.0
PRODID:Events Booking
BEGIN:VEVENT
UID:69ea331cd9735
SUMMARY:Das Potential der neuen Reinigungsstandards entdecken
DESCRIPTION:Was ist in den neuen Standards und Schulungshilfsmitteln für d
 ie Reinigung bei Covid-19 im Gesundheitswesen enthalten?&nbsp\; Reflektier
 en und diskutieren Sie mit Mitgliedern des «Netzwerks Reinigungsstandard 
 Covid-19» über das Potential der Standards und Ihre eigenen Erfahrungen.
LOCATION:Zürich\, Schweiz
DTSTART:20210518T140000Z
DTEND:20210518T150000Z
DTSTAMP:20260423T165628Z
ORGANIZER;CN=IFMA Schweiz :MAILTO:admin@ifma.ch
GEO:47.376887;8.541694
X-APPLE-STRUCTURED-LOCATION;VALUE=URI;X-ADDRESS=Zürich\, Schweiz;X-APPLE-R
 ADIUS=72;X-TITLE=online:47.376887;8.541694
END:VEVENT
END:VCALENDAR