BEGIN:VCALENDAR
VERSION:2.0
PRODID:Events Booking
BEGIN:VEVENT
UID:69e7f75474b6b
SUMMARY:Betriebsoptimierung von Lüftungsanlagen 
DESCRIPTION:An diesem fachlichen Austausch befasst man sich mit der energet
 ischen Betriebsoptimierung von Lüftungsanlagen
 kostenlos
LOCATION:Beatenpl. 2\, 8001 Zürich\, Schweiz
DTSTART:20230913T154500Z
DTEND:20230913T171500Z
DTSTAMP:20230724T063552Z
ORGANIZER;CN=IFMA Schweiz :MAILTO:admin@ifma.ch
GEO:47.37578;8.540698
X-APPLE-STRUCTURED-LOCATION;VALUE=URI;X-ADDRESS=Beatenpl. 2\, 8001 Zürich\
 , Schweiz;X-APPLE-RADIUS=72;X-TITLE=Zürich\, EWZ Vortragssaal:47.37578;8.
 540698
END:VEVENT
END:VCALENDAR