BEGIN:VCALENDAR
VERSION:2.0
PRODID:Events Booking
BEGIN:VEVENT
UID:69e7b46c37f29
SUMMARY:Baumaterialien als CO2-Senke oder -Speicher
DESCRIPTION:Es erwarten uns drei Referate
 
 Klimapositives Bauen
 Anrec
 henbarkeit und Umsetzbarkeit von Kohlenstoffspeicherung in Baukonstruktion
 en
 Dämmstoffe aus Pflanzenkohle als CO2-Senke
 
LOCATION:Weinbergstrasse 36\, 8006 Zürich\, Schweiz
DTSTART:20240206T161500Z
DTEND:20240206T180000Z
DTSTAMP:20231011T124225Z
ORGANIZER;CN=IFMA Schweiz :MAILTO:admin@ifma.ch
GEO:47.379872;8.544478
X-APPLE-STRUCTURED-LOCATION;VALUE=URI;X-ADDRESS=Weinbergstrasse 36\, 8006 Z
 ürich\, Schweiz;X-APPLE-RADIUS=72;X-TITLE=Zürich\, Pfarreizentrum Liebfr
 auen:47.379872;8.544478
END:VEVENT
END:VCALENDAR