BEGIN:VCALENDAR
VERSION:2.0
PRODID:Events Booking
BEGIN:VEVENT
UID:69e9f02af3ba2
SUMMARY:Autumn School Facility Management
DESCRIPTION:From a boring office to a place to be!Facility management moves
  with trends and developments such as COVID 19. This ensures a critical lo
 ok at the use of offices.
 You will be working in a small and internation
 al project group and your challenge will be: develop an office that will b
 e perceived as a place to be!
LOCATION:Zürich\, Schweiz
DTSTART:20211019T073000Z
DTEND:20211022T140000Z
DTSTAMP:20260423T121050Z
ORGANIZER;CN=IFMA Schweiz :MAILTO:admin@ifma.ch
GEO:47.376887;8.541694
X-APPLE-STRUCTURED-LOCATION;VALUE=URI;X-ADDRESS=Zürich\, Schweiz;X-APPLE-R
 ADIUS=72;X-TITLE=online:47.376887;8.541694
END:VEVENT
END:VCALENDAR