BEGIN:VCALENDAR
VERSION:2.0
PRODID:Events Booking
BEGIN:VEVENT
UID:69e7689aa0fb5
SUMMARY:Workplace of the future through the eyes of generation Z
DESCRIPTION:
 We think we all know these answers but let’s take a step b
 ack and really listen to what our high potentials have to say. We have ask
 ed young professionals to provide us with their insights on the future of 
 the workplace as they see it.
LOCATION:Esp. de l'Europe\, 1060 Bruxelles\, Belgien
DTSTART:20230314T170000Z
DTEND:20230314T210000Z
DTSTAMP:20230206T083723Z
ORGANIZER;CN=IFMA Schweiz :MAILTO:admin@ifma.ch
GEO:50.838177;4.33854
X-APPLE-STRUCTURED-LOCATION;VALUE=URI;X-ADDRESS=Esp. de l'Europe\, 1060 Bru
 xelles\, Belgien;X-APPLE-RADIUS=72;X-TITLE=Pension Tower\, Belgien:50.8381
 77;4.33854
END:VEVENT
END:VCALENDAR