BEGIN:VCALENDAR
VERSION:2.0
PRODID:Events Booking
BEGIN:VEVENT
UID:69e4cc2d1d045
SUMMARY:Swissbau Innovation Lab on Tour
DESCRIPTION:Vorabprogramm Führung durch das Areal uptownBasel
 Anschliess
 end diverse Themen ab Mittag vor Ort.
LOCATION:Zürich\, Schweiz
DTSTART:20221117T090000Z
DTEND:20221117T163000Z
DTSTAMP:20221026T072503Z
ORGANIZER;CN=IFMA Schweiz :MAILTO:admin@ifma.ch
GEO:47.376887;8.541694
X-APPLE-STRUCTURED-LOCATION;VALUE=URI;X-ADDRESS=Zürich\, Schweiz;X-APPLE-R
 ADIUS=72;X-TITLE=online:47.376887;8.541694
END:VEVENT
END:VCALENDAR