BEGIN:VCALENDAR
VERSION:2.0
PRODID:Events Booking
BEGIN:VEVENT
UID:69e4c9a873f64
SUMMARY:Mobilität neu denken: Nationale Mobilitätskonferenz
DESCRIPTION:Der Klimawandel verlangt nach einer klimaneutralen Mobilität. 
 Dafür braucht es intelligente Lösungen\, die wir rasch umsetzen können.
  Wie sieht diese Mobilität aus\, die effizient zugleich das Klima und die
  Umwelt schont\, den Bedürfnissen der Gesellschaft gerecht wird und zur W
 irtschaft Sorge trägt?
 Der Anlass wird auch digital durchgeführt.
LOCATION:Kornhausstrasse 3\, 3013 Bern\, Schweiz
DTSTART:20211129T073000Z
DTEND:20211129T154500Z
DTSTAMP:20260419T142512Z
ORGANIZER;CN=IFMA Schweiz :MAILTO:admin@ifma.ch
GEO:46.953097;7.449378
X-APPLE-STRUCTURED-LOCATION;VALUE=URI;X-ADDRESS=Kornhausstrasse 3\, 3013 Be
 rn\, Schweiz;X-APPLE-RADIUS=72;X-TITLE=Bern\, Kursaal:46.953097;7.449378
END:VEVENT
END:VCALENDAR