BEGIN:VCALENDAR
VERSION:2.0
PRODID:Events Booking
BEGIN:VEVENT
UID:69e88c9622851
SUMMARY:La crise énergétique\, une chance pour la protection du climat ?!
DESCRIPTION:Les thèmes de l’énergie et du climat préoccupent plus que 
 jamais l’économie.Lors de cette événement de swisscleantech et Romand
 e Energie on discutera avec des intervenants de grande qualité issus de l
 ’économie et de la politique de la situation actuelle en matière de po
 litique énergétique et climatique\, des mesures supplémentaires à pren
 dre et du rôle des fournisseurs d’énergie et des entreprises.
LOCATION:Rue de Lausanne 53\, 1110 Morges\, Schweiz
DTSTART:20221102T170000Z
DTEND:20221102T190000Z
DTSTAMP:20220902T143836Z
ORGANIZER;CN=IFMA Schweiz :MAILTO:admin@ifma.ch
GEO:46.516953;6.507828
X-APPLE-STRUCTURED-LOCATION;VALUE=URI;X-ADDRESS=Rue de Lausanne 53\, 1110 M
 orges\, Schweiz;X-APPLE-RADIUS=72;X-TITLE=Morges\, Romande Energie SA:46.5
 16953;6.507828
END:VEVENT
END:VCALENDAR