BEGIN:VCALENDAR
VERSION:2.0
PRODID:Events Booking
BEGIN:VEVENT
UID:69e61ee81d77b
SUMMARY:Betriebsausfälle\, Störung\, Krise: Was tun?
DESCRIPTION:Wir leben in einer VUCA-Welt – geprägt demzufolge von Volati
 litäten\, Unsicherheiten\, Komplexitäten und Mehrdeutigkeiten. Die Einfl
 üsse auf das Risikomanagement der Unternehmen sind gestiegen und noch vie
 lschichtiger\, komplexer geworden. Betriebsstörungen respektive längere 
 Unterbrechungen sind keine allzu seltenen Ereignisse mehr. Jüngste Vorkom
 mnisse von hoher Tragik und Reichweite stellen indes ganz neue Anforderung
 en an das betriebliche Sicherheits-\, Notfall- und Krisenmanagement sowie 
 an die organisationale Widerstandsfähigkeit.
LOCATION:Neumühlequai 42\, 8006 Zürich\, Schweiz
DTSTART:20221027T072000Z
DTEND:20221027T142500Z
DTSTAMP:20220902T143836Z
ORGANIZER;CN=IFMA Schweiz :MAILTO:admin@ifma.ch
GEO:47.382573;8.540485
X-APPLE-STRUCTURED-LOCATION;VALUE=URI;X-ADDRESS=Neumühlequai 42\, 8006 Zü
 rich\, Schweiz;X-APPLE-RADIUS=72;X-TITLE=Zürich\, Marriott Hotel:47.38257
 3;8.540485
END:VEVENT
END:VCALENDAR