BEGIN:VCALENDAR
VERSION:2.0
PRODID:Events Booking
BEGIN:VEVENT
UID:69ea074f5a98a
SUMMARY:BAUSIM2026
DESCRIPTION:Die Gebäudesimulations-Konferenz erstmals in der Schweiz
 Vom
 &nbsp\;9. bis 11. September 2026&nbsp\;wird in Zürich die 11. BauSIM Konf
 erenz durchgeführt. Die Konferenz wird seit 2006 unter der Schirmherrscha
 ft der&nbsp\;IBPSA-DACH&nbsp\;veranstaltet und findet alle zwei Jahre stat
 t.&nbsp\;
 Die Konferenz bringt Expert:innen aus dem Bereich der Gebäude
 simulation zusammen und liefert wichtige Impulse für die Transformation d
 es Gebestandes hin zur Klimaneutralität. Themen wie thermischer Komfort\,
  Raumluftqualität\, Nutzerverhalten\, BIM-basierte Planungswerkzeuge und 
 die Integration regenerativer Energiesysteme werden umfassend behandelt.&n
 bsp\;
 Ein spezieller Fokus wird auf den Wissenstransfer aus der akademis
 chen Forschung in die konkrete Umsetzung gesetzt. Die Konferenz spricht da
 mit neben einem wissenschaftlichen Fachpublikum auch Planer und Behördenv
 ertreter an.
LOCATION:Pfingstweidstrasse 96\, 8005 Zürich\, Schweiz
DTSTART:20260908T220000Z
DTEND:20260910T220000Z
DTSTAMP:20251223T083112Z
ORGANIZER;CN=IFMA Schweiz :MAILTO:admin@ifma.ch
GEO:47.390451;8.511527
X-APPLE-STRUCTURED-LOCATION;VALUE=URI;X-ADDRESS=Pfingstweidstrasse 96\, 800
 5 Zürich\, Schweiz;X-APPLE-RADIUS=72;X-TITLE=ZHAW-Campus Toni-Areal:47.39
 0451;8.511527
END:VEVENT
END:VCALENDAR