BEGIN:VCALENDAR
VERSION:2.0
PRODID:Events Booking
BEGIN:VEVENT
UID:69e738e9b6ab0
SUMMARY:Zusammenschluss zum Eigenverbrauch
DESCRIPTION:An dieser Veranstaltung wird auf die Möglichkeiten und Herausf
 orderungen eingegangen\, die die Gründung eines Zusammenschlusses zum Eig
 enverbrauch mit sich bringt. Experten erklären anhand von Praxisbeispiele
 n\, wie Eigenstrom effektiv genutzt werden kann und wie das Strommarktdesi
 gn der Zukunft aussehen könnte.
LOCATION:Schaffhauserstrasse 8\, 8400 Winterthur\, Schweiz
DTSTART:20201125T074500Z
DTEND:20201125T154500Z
DTSTAMP:20260421T104425Z
ORGANIZER;CN=IFMA Schweiz :MAILTO:admin@ifma.ch
GEO:47.504075;8.725535
X-APPLE-STRUCTURED-LOCATION;VALUE=URI;X-ADDRESS=Schaffhauserstrasse 8\, 840
 0 Winterthur\, Schweiz;X-APPLE-RADIUS=72;X-TITLE=Winterthur\, Hotel Banana
  City:47.504075;8.725535
END:VEVENT
END:VCALENDAR