BEGIN:VCALENDAR
VERSION:2.0
PRODID:Events Booking
BEGIN:VEVENT
UID:69eb7c936fd0c
SUMMARY:Wege zum ressourcenschonenden Bauen\, Vortrag 2
DESCRIPTION:Im Rahmen der Vortragsreihe \"Blauer Montag FS22\" des Zentrums
  Bautechnololgie und Prozesse (ZBP) referiert Prof. Dipl. Arch. Dirk E. He
 bel\, KIT\, zum Thema \"Vom Sammeln\, Säen und Ernten zukünftiger Baukon
 struktionen\".
 &nbsp\;
LOCATION:Tössfeldstrasse 11\, 8401 Winterthur\, Schweiz
DTSTART:20220411T160000Z
DTEND:20220410T220000Z
DTSTAMP:20260424T162211Z
ORGANIZER;CN=IFMA Schweiz :MAILTO:admin@ifma.ch
GEO:47.493099;8.716691
X-APPLE-STRUCTURED-LOCATION;VALUE=URI;X-ADDRESS=Tössfeldstrasse 11\, 8401 
 Winterthur\, Schweiz;X-APPLE-RADIUS=72;X-TITLE=Winterthur\, ZHAW\, Gebäud
 e MC\, Blauer Saal:47.493099;8.716691
END:VEVENT
END:VCALENDAR