BEGIN:VCALENDAR
VERSION:2.0
PRODID:Events Booking
BEGIN:VEVENT
UID:69e74cf0046f7
SUMMARY:Webinar BIM & Tools: BIM für Bauingenieure
DESCRIPTION:Die Lösung Allplan Engineering bietet den Bauingenieurebüros 
 eine effiziente Software für die Erstellung von Hochbau- und Tiefbauproje
 kten. Vom Erstellen von Baugrubendaten\, für die digital gesteuerten Baum
 aschinen bis zu den Ausführungsdaten für die digitale Baustelle. Es werd
 en Ihnen die Ingenieur-Workflows\, wie modellbasierte Mengenermittlung in 
 BIM-Projekten im Hochbau und mögliche BIM-Anwendungsfälle für den Infra
 strukturbau\, gezeigt.
LOCATION:Zürich\, Schweiz
DTSTART:20210225T100000Z
DTEND:20210225T110000Z
DTSTAMP:20260421T120952Z
ORGANIZER;CN=IFMA Schweiz :MAILTO:admin@ifma.ch
GEO:47.376887;8.541694
X-APPLE-STRUCTURED-LOCATION;VALUE=URI;X-ADDRESS=Zürich\, Schweiz;X-APPLE-R
 ADIUS=72;X-TITLE=online:47.376887;8.541694
END:VEVENT
END:VCALENDAR