BEGIN:VCALENDAR
VERSION:2.0
PRODID:Events Booking
BEGIN:VEVENT
UID:69e9f184e91a9
SUMMARY:Vernetzte Gebäude
DESCRIPTION:Der Event findet im Rahmen der Veranstaltungsreihe ENERGIE Even
 ts 2021/22: \"Gebäudepark im (Klima-)Wandel\" statt. Sie hören drei Refe
 rate zu den folgenden Themen:
 
 Energieverwaltung für geteilten Solars
 trom
 Seewasser als Energiequelle für klimafreundliches Heizen und Kühl
 en
 Die optimale Arealversorgung als Ziel
 
LOCATION:Weinbergstrasse 36\, 8006 Zürich\, Schweiz
DTSTART:20220405T151500Z
DTEND:20220405T170000Z
DTSTAMP:20260423T121636Z
ORGANIZER;CN=IFMA Schweiz :MAILTO:admin@ifma.ch
GEO:47.379872;8.544478
X-APPLE-STRUCTURED-LOCATION;VALUE=URI;X-ADDRESS=Weinbergstrasse 36\, 8006 Z
 ürich\, Schweiz;X-APPLE-RADIUS=72;X-TITLE=Zürich\, Pfarreizentrum Liebfr
 auen:47.379872;8.544478
END:VEVENT
END:VCALENDAR