BEGIN:VCALENDAR
VERSION:2.0
PRODID:Events Booking
BEGIN:VEVENT
UID:69e78a56df651
SUMMARY:Tanzhaus
DESCRIPTION:FEZ ENERGIE VorOrtKulturbau zum Verweilen: Der Neubau des Tanzh
 auses ersetzt das städtische Gebäude\, das 2012 bis auf die Grundmauern 
 niederbrannte. Im gleichen Umfang entstand 2016 bis 2019 – von Barozzi/V
 eiga Architekten aus Barcelona entworfen – dieser eindrückliche Kulturb
 au an der Limmat.
LOCATION:Wasserwerkstrasse 127A\, 8037 Zürich\, Schweiz
DTSTART:20221005T151500Z
DTEND:20221005T170000Z
DTSTAMP:20260421T163150Z
ORGANIZER;CN=IFMA Schweiz :MAILTO:admin@ifma.ch
GEO:47.388927;8.530505
X-APPLE-STRUCTURED-LOCATION;VALUE=URI;X-ADDRESS=Wasserwerkstrasse 127A\, 80
 37 Zürich\, Schweiz;X-APPLE-RADIUS=72;X-TITLE=Zürich\, Foyer Tanzhaus:47
 .388927;8.530505
END:VEVENT
END:VCALENDAR