BEGIN:VCALENDAR
VERSION:2.0
PRODID:Events Booking
BEGIN:VEVENT
UID:69ecd0c32f8ed
SUMMARY:Saisonale Wärmespeicher\, was ist möglich
DESCRIPTION:FEZ ENERGIE Event
 
 Saisonlae Wärmespeicher - was läuft im
  Ausland?
 Grundwasserkreislauf als Energiespeicher
 Saisonale Wärmespe
 icher - attraktiv und dennoch vernachlässigt
 
 Vor dem Anlass\, von 16
 :00–17:00 Uhr\, findet die Generalversammlung 2023 des Forum Energie Zü
 rich zum vergangenen Geschäftsjahr 2022 statt.
LOCATION:Weinbergstrasse 36\, 8006 Zürich\, Schweiz
DTSTART:20230404T151500Z
DTEND:20230404T170000Z
DTSTAMP:20260425T163339Z
ORGANIZER;CN=IFMA Schweiz :MAILTO:admin@ifma.ch
GEO:47.379872;8.544478
X-APPLE-STRUCTURED-LOCATION;VALUE=URI;X-ADDRESS=Weinbergstrasse 36\, 8006 Z
 ürich\, Schweiz;X-APPLE-RADIUS=72;X-TITLE=Zürich\, Pfarreizentrum Liebfr
 auen:47.379872;8.544478
END:VEVENT
END:VCALENDAR