BEGIN:VCALENDAR
VERSION:2.0
PRODID:Events Booking
BEGIN:VEVENT
UID:69ecd0e143f4f
SUMMARY:Real Estate Symposioum 2023 der SVIT five
DESCRIPTION:«Können wir Klimawandel?»Überschwemmungen durch Starkregen\
 , Schäden an Gebäuden und Infrastrukturen nach heftigen Stürmen\, sinke
 nder Grundwasserspiegel durch Trockenheit: Forschungen und Prognosen gehen
  von weitreichenden Auswirkungen des Klimawandels aus auf das Bauen\, das 
 Wohnen und das Unterhalten von Immobilien\, auf deren Wertentwicklung und 
 die Vermarktung. Mit dem Klima wandeln sich die Anforderungen an die Immob
 ilienwirtschaft. Sind wir bereit dafür? Was kommt auf uns zu? Und: Schaff
 en wir das?
LOCATION:Türliackerstrasse 4\, 8957 Spreitenbach\, Schweiz
DTSTART:20230328T110000Z
DTEND:20230328T153000Z
DTSTAMP:20260425T163409Z
ORGANIZER;CN=IFMA Schweiz :MAILTO:admin@ifma.ch
GEO:47.424427;8.367081
X-APPLE-STRUCTURED-LOCATION;VALUE=URI;X-ADDRESS=Türliackerstrasse 4\, 8957
  Spreitenbach\, Schweiz;X-APPLE-RADIUS=72;X-TITLE=Spreitenbach Umweltarena
 :47.424427;8.367081
END:VEVENT
END:VCALENDAR