BEGIN:VCALENDAR
VERSION:2.0
PRODID:Events Booking
BEGIN:VEVENT
UID:69e739077a72b
SUMMARY:Rahmenbedingungen angesichts des Klimawandels
DESCRIPTION:Der Gebäudepark in Zürich und in der ganzen Schweiz steht vor
  grossen Herausforderungen. Wie können wir unsere Gebäude nachhaltig bau
 en und betreiben? Angepasst an das sich ändernde Klima. Welche Rahmenbedi
 ngungen braucht es? Wer spielt dabei welche Rolle?
 
 Frank Domschat\, V
 orstand Forum Energie Zürich
 Reto Dettli\, Vorstand Forum Energie Züri
 ch
 Beat Kämpfen\, Leiter Fachgruppe Solararchitektur des Forum Energie 
 Zürich
 
 Drei kurze Inputreferate liefern einen Überblick zum aktuell
 en Stand der Dinge bezüglich Klimawandel und -anpassung\, Rahmenbedingung
 en und Best-Practice-Gebäuden. Danach folgt die Podiumsdiskussion mit fol
 genden Gästen:
 
 Christoph Schaer\, Direktor suissetec
 Martin Neukom
 \, Regierungsrat Kanton Zürich
 Katrin Gügler\, Direktorin Amt für St
 ädtebau Stadt Zürich
 Adrian Altenburger\, Vizepräsident Schweizerisch
 er Ingenieur- und Architektenverein SIA
 Moderation: Céline Werdelis\, R
 adio 24 und TeleZüri
 
LOCATION:Zürich\, Schweiz
DTSTART:20201103T170000Z
DTEND:20201103T184500Z
DTSTAMP:20260421T104455Z
ORGANIZER;CN=IFMA Schweiz :MAILTO:admin@ifma.ch
GEO:47.376887;8.541694
X-APPLE-STRUCTURED-LOCATION;VALUE=URI;X-ADDRESS=Zürich\, Schweiz;X-APPLE-R
 ADIUS=72;X-TITLE=online:47.376887;8.541694
END:VEVENT
END:VCALENDAR