BEGIN:VCALENDAR
VERSION:2.0
PRODID:Events Booking
BEGIN:VEVENT
UID:69e6f184a1e80
SUMMARY:PV – das neue Fassadenmaterial
DESCRIPTION:Es werden zwei Mehrfamilienhäuser an der Segantinistrasse 186 
 und 188 in Zürich-Höngg\, die vorbildliche Architektur mit moderner Sola
 rtechnologie kombinieren\, gezeigt. Beide Gebäude erhielten 2019 eine Aus
 zeichnung des Schweizer Solarpreises.
 Führung durch:Beat Kämpfen\, dip
 l. Architekt ETH SIA und Co-Geschäftsleiter kämpfen zinke + partner agMa
 ren Zinke\, dipl. Ing. FH Arch. SIA und CO-Geschäftsleiterin kämpfen zin
 ke + partner ag
DTSTART:20200512T151500Z
DTEND:20200512T170000Z
DTSTAMP:20260421T053948Z
ORGANIZER;CN=IFMA Schweiz :MAILTO:admin@ifma.ch
END:VEVENT
END:VCALENDAR