BEGIN:VCALENDAR
VERSION:2.0
PRODID:Events Booking
BEGIN:VEVENT
UID:69ece2a4c2cfd
SUMMARY:Netzwerktreffen Ostschweiz 
DESCRIPTION:Besichtigung des Flughafens Altenrhein.
LOCATION:Flughafen St.Gallen-Altenrhein\, Flughafenstrasse 11\, 9423 Thal\,
  Schweiz
DTSTART:20230623T100000Z
DTEND:20230623T150000Z
DTSTAMP:20260425T174956Z
ORGANIZER;CN=IFMA Schweiz :MAILTO:admin@ifma.ch
GEO:47.48777;9.55243
X-APPLE-STRUCTURED-LOCATION;VALUE=URI;X-ADDRESS=Flughafen St.Gallen-Altenrh
 ein\, Flughafenstrasse 11\, 9423 Thal\, Schweiz;X-APPLE-RADIUS=72;X-TITLE=
 Altenrhein SG\, Flughafen Altenrhein:47.48777;9.55243
END:VEVENT
END:VCALENDAR