BEGIN:VCALENDAR
VERSION:2.0
PRODID:Events Booking
BEGIN:VEVENT
UID:69e60e762fabf
SUMMARY:Messe: Logistics & Distribution 2022
DESCRIPTION:Branchenspezialisten präsentieren praxisnahe Lösungen für di
 e Logistik im digitalen Zeitalter. Es erwarten Sie inspirierende Vorträge
 \, lehrreiche Seminare und spannende Diskussionen mit Brancheninsidern.
LOCATION:Mingerstrasse 6\, 3014 Bern\, Schweiz
DTSTART:20220330T070000Z
DTEND:20220331T140000Z
DTSTAMP:20260420T133102Z
ORGANIZER;CN=IFMA Schweiz :MAILTO:admin@ifma.ch
GEO:46.959338;7.467063
X-APPLE-STRUCTURED-LOCATION;VALUE=URI;X-ADDRESS=Mingerstrasse 6\, 3014 Bern
 \, Schweiz;X-APPLE-RADIUS=72;X-TITLE=Bern\, BEA Expo Bern:46.959338;7.4670
 63
END:VEVENT
END:VCALENDAR