BEGIN:VCALENDAR
VERSION:2.0
PRODID:Events Booking
BEGIN:VEVENT
UID:69e7274dd0f0a
SUMMARY:La digitalisation: un pont entre construction et facility managemen
 t
DESCRIPTION:Le Building Information Modelling (BIM) est aujourd'hui étroit
 ement lié aux phases de planification et d'exécution.Cette méthode perm
 et d'améliorer la communication entre les participants au projet et d'en 
 optimiser l'exécution. De nombreuses informations sont ainsi disponibles 
 dans la maquette numérique\, et ce dès le début de la planification. Ma
 is qu'advient-il des données et des informations recueillies en cours d'e
 xploitation? De quelles informations l'exploitant a-t-il besoin? Quelles s
 ont celles nécessaires en prévision d'une déconstruction? Existe-t-il d
 éjà des standards adaptés en Suisse?
LOCATION:1400 Yverdon-les-Bains\, Schweiz
DTSTART:20200903T070000Z
DTEND:20200903T150000Z
DTSTAMP:20260421T092917Z
ORGANIZER;CN=IFMA Schweiz :MAILTO:admin@ifma.ch
GEO:46.778474;6.641183
X-APPLE-STRUCTURED-LOCATION;VALUE=URI;X-ADDRESS=1400 Yverdon-les-Bains\, Sc
 hweiz;X-APPLE-RADIUS=72;X-TITLE=Yverdon-les-Bains:46.778474;6.641183
END:VEVENT
END:VCALENDAR