BEGIN:VCALENDAR
VERSION:2.0
PRODID:Events Booking
BEGIN:VEVENT
UID:69e79fc4a87c0
SUMMARY:Kadertag Gebäudetechnik
DESCRIPTION:Das diesjährige Thema des Kadertag Gebäudetechnik lautet \"Vi
 rtuelle Zukunft für reale Menschen\". Neben diversen Referaten gibt es ei
 ne Podiumsdiskussion&nbsp\; zu den Vor- und Nachteilen der Projektabwicklu
 ngsmethoden \"Design – Bid – Build\" versus \"Bid – Design – Build
 \" mit Maik Neuhaus\, Hannes Pichler\, Peter Pfiffner\, Daniel Bührer und
  Christian Rufer. Das Einstiegsreferat hält Markus Mettler.
LOCATION:Baden\, Schweiz
DTSTART:20221108T073000Z
DTEND:20221107T230000Z
DTSTAMP:20260421T180316Z
ORGANIZER;CN=IFMA Schweiz :MAILTO:admin@ifma.ch
GEO:47.47288;8.30809
X-APPLE-STRUCTURED-LOCATION;VALUE=URI;X-ADDRESS=Baden\, Schweiz;X-APPLE-RAD
 IUS=72;X-TITLE=Baden:47.47288;8.30809
END:VEVENT
END:VCALENDAR