BEGIN:VCALENDAR
VERSION:2.0
PRODID:Events Booking
BEGIN:VEVENT
UID:69e5122200441
SUMMARY:JED - Innovation Campus
DESCRIPTION:Kreislaufwirtschaft trifft auf Think- &amp\; Work-Tank. Das mit
  BREEAM Bestand zertifizierte JED-Areal steht für Innovation\, Unternehme
 rtum und Wissenstransfer in Schlieren. Das Gebäude D\, ein visionäres La
 bor- und Bürogebäude\, wurde nach dem Zero-Energy-Gebäudekonzept «2226
 » entwickelt. Beim Gebäude sind alle Baumaterialien recyclebar\, und in 
 den Bürobereichen wird vollständig auf herkömmliche Heizungs-\, Lüftun
 gs- und Klimaanlagen verzichtet.
LOCATION:Zürcherstrasse 39\, 8952 Schlieren\, Schweiz
DTSTART:20250916T151500Z
DTEND:20250916T170000Z
DTSTAMP:20250423T100319Z
ORGANIZER;CN=IFMA Schweiz :MAILTO:admin@ifma.ch
GEO:47.398997;8.454142
X-APPLE-STRUCTURED-LOCATION;VALUE=URI;X-ADDRESS=Zürcherstrasse 39\, 8952 S
 chlieren\, Schweiz;X-APPLE-RADIUS=72;X-TITLE=Schlieren\, JED\, Sektor D:47
 .398997;8.454142
END:VEVENT
END:VCALENDAR