BEGIN:VCALENDAR
VERSION:2.0
PRODID:Events Booking
BEGIN:VEVENT
UID:69e9e4b545718
SUMMARY:Inuas Konferenz 2020
DESCRIPTION:Urbane Transformationen: Wohnen | Ressourcen | Öffentliche Rä
 ume
LOCATION:Zürich\, Schweiz
DTSTART:20210302T230000Z
DTEND:20210304T230000Z
DTSTAMP:20260423T112157Z
ORGANIZER;CN=IFMA Schweiz :MAILTO:admin@ifma.ch
GEO:47.376887;8.541694
X-APPLE-STRUCTURED-LOCATION;VALUE=URI;X-ADDRESS=Zürich\, Schweiz;X-APPLE-R
 ADIUS=72;X-TITLE=online:47.376887;8.541694
END:VEVENT
END:VCALENDAR