BEGIN:VCALENDAR
VERSION:2.0
PRODID:Events Booking
BEGIN:VEVENT
UID:69e63cc4bc006
SUMMARY:IMMO - Die Schweizer Immobilienmesse für Investoren
DESCRIPTION:Die Schweizer Immobilienmesse für Investoren IMMO findet allj
 ährlich während zweier Messetagen statt und feiert im 2023 ihr 11-jähri
 ges Bestehen. Dabei hat sich die Veranstaltung als erfolgreiche und stark 
 wachsende Fachmesse etabliert und gilt als der jährliche Treffpunkt für 
 professionelle in- und ausländische Immobilieninvestoren. Die Veranstaltu
 ng besteht aus den drei konzeptionellen Teilbereichen IMMO Messe\, IMMO Fo
 rum und IMMO Magazin.
LOCATION:Therese-Giehse-Strasse 10\, 8050 Zürich\, Schweiz
DTSTART:20230118T064500Z
DTEND:20230119T160000Z
DTSTAMP:20220513T075654Z
ORGANIZER;CN=IFMA Schweiz :MAILTO:admin@ifma.ch
GEO:47.413328;8.542403
X-APPLE-STRUCTURED-LOCATION;VALUE=URI;X-ADDRESS=Therese-Giehse-Strasse 10\,
  8050 Zürich\, Schweiz;X-APPLE-RADIUS=72;X-TITLE=Zürich\, Halle 622:47.4
 13328;8.542403
END:VEVENT
END:VCALENDAR