BEGIN:VCALENDAR
VERSION:2.0
PRODID:Events Booking
BEGIN:VEVENT
UID:69ecd4d019c7e
SUMMARY:IFMA-International: Intentionen und Inspirationen im Entwurfsprozes
 s
DESCRIPTION:
 Vor dem Hintergrund der zunehmenden Digitalisierung von Entw
 urf und Herstellung von Bauwerken stellt sich immer eindringlicher die Fra
 ge nach der Bedeutung des menschlichen Beitrages im Gestaltungsprozess. We
 nn Computer auch selbst gestalten können\, was ist dann noch der Mehrwert
 \, den wir als Menschen diesem Prozess hinzufügen können?
LOCATION:Villestraße 3\, 53347 Alfter\, Deutschland
DTSTART:20230505T163000Z
DTEND:20230507T103000Z
DTSTAMP:20230417T063627Z
ORGANIZER;CN=IFMA Schweiz :MAILTO:admin@ifma.ch
GEO:50.746019;7.027252
X-APPLE-STRUCTURED-LOCATION;VALUE=URI;X-ADDRESS=Villestraße 3\, 53347 Alft
 er\, Deutschland;X-APPLE-RADIUS=72;X-TITLE=Alanus Hochschule:50.746019;7.0
 27252
END:VEVENT
END:VCALENDAR