BEGIN:VCALENDAR
VERSION:2.0
PRODID:Events Booking
BEGIN:VEVENT
UID:69e6abcd4d31d
SUMMARY:IFM Syposium 2018: on Workplace and Sustainable FM
DESCRIPTION:We invite you to join a discussion on recent research in FM at 
 our 2018 research symposium on workplace &amp\; well-being\, sustainable b
 uilding operation and sustainable FM services. The symposium aims at trans
 ferring research results into practice.
LOCATION:Seestrasse 55\, 8820 Wädenswil\, Schweiz
DTSTART:20181005T060000Z
DTEND:20181005T140000Z
DTSTAMP:20260421T004221Z
ORGANIZER;CN=IFMA Schweiz :MAILTO:admin@ifma.ch
GEO:47.225227;8.67903
X-APPLE-STRUCTURED-LOCATION;VALUE=URI;X-ADDRESS=Seestrasse 55\, 8820 Wäden
 swil\, Schweiz;X-APPLE-RADIUS=72;X-TITLE=Wädenswil\, Institut für Facili
 ty Management:47.225227;8.67903
END:VEVENT
END:VCALENDAR