BEGIN:VCALENDAR
VERSION:2.0
PRODID:Events Booking
BEGIN:VEVENT
UID:69e7b81331d09
SUMMARY:IFM Day 
DESCRIPTION:Co-Working oder Social Cocooning? Micro-Housing oder Co-Living?
  Hoteloffice oder Staycation? Wie schaffen wir es in Zeiten der Hyperindiv
 idualisierung unsere Lebens- und Arbeitswelten nachhaltiger zu gestalten? 
 Die gesellschaftlichen und technologischen Entwicklungen fordern «Everyth
 ing as a Service»\, neues Workplace-Design und innovatives Edutainment. W
 elchen Beitrag leistet das Lehr- und Forschungsinstitut im Immobilien- und
  Facility Management für die Welt von morgen?
LOCATION:Seestrasse 55\, 8820 Wädenswil\, Schweiz
DTSTART:20230310T070000Z
DTEND:20230310T160000Z
DTSTAMP:20260421T194659Z
ORGANIZER;CN=IFMA Schweiz :MAILTO:admin@ifma.ch
GEO:47.225227;8.67903
X-APPLE-STRUCTURED-LOCATION;VALUE=URI;X-ADDRESS=Seestrasse 55\, 8820 Wäden
 swil\, Schweiz;X-APPLE-RADIUS=72;X-TITLE=Wädenswil\, Institut für Facili
 ty Management:47.225227;8.67903
END:VEVENT
END:VCALENDAR