BEGIN:VCALENDAR
VERSION:2.0
PRODID:Events Booking
BEGIN:VEVENT
UID:69e613ee2879c
SUMMARY:GNI - Generalversammlung
DESCRIPTION:Auf dem Vorprogramm steht das Projekt The Circle\, ein neuer ar
 chitektonisch prägmenter Gebäudekomplex mit viel fältigem Innenleben.
LOCATION:Flughafen Zürich\, 8058 Zürich-Flughafen\, Schweiz
DTSTART:20170518T120000Z
DTEND:20170518T160000Z
DTSTAMP:20260420T135422Z
ORGANIZER;CN=IFMA Schweiz :MAILTO:admin@ifma.ch
GEO:47.458217;8.555476
X-APPLE-STRUCTURED-LOCATION;VALUE=URI;X-ADDRESS=Flughafen Zürich\, 8058 Z
 ürich-Flughafen\, Schweiz;X-APPLE-RADIUS=72;X-TITLE=Flughafen Zürich:47.
 458217;8.555476
END:VEVENT
END:VCALENDAR