BEGIN:VCALENDAR
VERSION:2.0
PRODID:Events Booking
BEGIN:VEVENT
UID:69e74bdfd3212
SUMMARY:«Future Workplace» und «Workplace Experience»
DESCRIPTION:Ein Ansatz um die Arbeitsplatzumgebung attraktiv zu halten und 
 um das Workplace Erlebnis zu steigern\, bietet das Host Konzept von CBRE. 
 Das Konzept basiert auf Technologie\, Ausbildung und Profile (People) um d
 adurch das Workplace Erlebnis für die Nutzer zu optimieren. Host kann gen
 erell in den Gesamtkontext der sich veränderten Arbeitsweise (mehr Flexib
 ilität\, Arbeitsplatz als Kollaboration\, Digitalisierung) und dem Begrif
 f «Workplace Experience» eingebettet werden.
LOCATION:Zürich\, Schweiz
DTSTART:20210505T143000Z
DTEND:20210505T151500Z
DTSTAMP:20260421T120519Z
ORGANIZER;CN=IFMA Schweiz :MAILTO:admin@ifma.ch
GEO:47.376887;8.541694
X-APPLE-STRUCTURED-LOCATION;VALUE=URI;X-ADDRESS=Zürich\, Schweiz;X-APPLE-R
 ADIUS=72;X-TITLE=online:47.376887;8.541694
END:VEVENT
END:VCALENDAR