BEGIN:VCALENDAR
VERSION:2.0
PRODID:Events Booking
BEGIN:VEVENT
UID:69e6f1d1a757b
SUMMARY:fmpro Netzwerktreffen Nordschweiz: The Circle
DESCRIPTION:Netzwerktreffen Nordschweiz mit Besichtigung des neu eröffnete
 n Zentrums \"The Circle\" am Flughafen Zürich. 
LOCATION:Flughafen Zürich\, 8058 Zürich-Flughafen\, Schweiz
DTSTART:20201117T154500Z
DTEND:20201117T190000Z
DTSTAMP:20260421T054105Z
ORGANIZER;CN=IFMA Schweiz :MAILTO:admin@ifma.ch
GEO:47.458217;8.555476
X-APPLE-STRUCTURED-LOCATION;VALUE=URI;X-ADDRESS=Flughafen Zürich\, 8058 Z
 ürich-Flughafen\, Schweiz;X-APPLE-RADIUS=72;X-TITLE=Flughafen Zürich:47.
 458217;8.555476
END:VEVENT
END:VCALENDAR